BEGIN:VCALENDAR
VERSION:1.0
PRODID:Open2CKalenderExportV11
BEGIN:VEVENT
DTSTAMP:20221024T070126Z
DTSTART:20230311T180000Z
DTEND:20230311T180000Z
CATEGORIES:Vereine
SUMMARY:Starkbierfest des EC Poxau
DESCRIPTION:
LOCATION:ECP Vereinsheim
UID:497abc1dc607bde5da6d9fb997cfbb52-ce363efa46443c843d9dea8235e19b0b
PRIORITY:3
END:VEVENT
BEGIN:VEVENT
DTSTAMP:20230321T072427Z
DTSTART:20230325T140000Z
DTEND:20230325T160000Z
CATEGORIES:Verschiedenes
SUMMARY:Naturerlebniswanderung: Frühling erleben im Naturschutzgebiet „Vilstal bei Marklkofen“
DESCRIPTION:Seit knapp 40 Jahren besteht das Naturschutzgebiet „Vilstal bei Marklkofen“ mit einer Ausdehnung von rund 173 Hektar. Der wertvolle Lebensraum beinhaltet unter anderem Fließ- und Stillgewässer, Auwaldreste, große Schilfröhricht- und weite Wiesenflächen. Zahlreiche Vogelarten leben und \nüten hier oder rasten auf dem Durchzug. | Bei einem kleinen Spaziergang erläutert die Referentin die Besonderheiten des Gebiets, auch im Bezug auf die Vogelwelt. Die Besucher sind eingeladen, das Naturschutzgebiet kennenzulernen. | Besonders wichtig dabei: Um langfristig die Vielfalt der seltenen Arten zu schützen, müssen auch Naturfreunde auf Abstand zum Beispiel zu den störungsempfindlichen Vögeln gehen. Die Wanderung soll auch eine Entdeckungsreise zu den ersten Blüten und Knospen des Jahres sein und sensibel machen für Geräusche und Farbeindrücke im Lebensraum Flussaue. | Mitzu\ningen sind: wenn vorhanden ein Fernglas, festes Schuhwerk und wetterangepasste Kleidung | Wir bitten um Anmeldung, da die Teilnehmerzahl begrenzt ist: | umweltbildung@landkreis-dingolfing-landau.de  -  Tel. 08731-87-248 | Organisator   Referentin: Dr. rer.nat. Claudia Karl, Dipl. Biologin | Kontakt   umweltbildung@landkreis-dingolfing-landau.de | Tel. 08731-87-248
LOCATION:Mäandertalzentrum, Am Sportplatz, 84163 Marklkofen
UID:b388029efa742f5a741fe3b732f58317-d86a975e0313b0564d9e9c7668710ddd
PRIORITY:3
END:VEVENT
BEGIN:VEVENT
DTSTAMP:20230306T070240Z
DTSTART:20230326T150000Z
DTEND:20230326T150000Z
CATEGORIES:Vereine
SUMMARY:Generalversammlung mit Neuwahlen der KSK Marklkofen
DESCRIPTION:
LOCATION:Alter Bahnhof, Marklkofen
UID:0404dcba2c6427f23a5a31897810f815-0b7a8ceb8ab605239811dde9bdfb5c12
PRIORITY:3
END:VEVENT
BEGIN:VEVENT
DTSTAMP:20230308T064757Z
DTSTART:20230327T190000Z
DTEND:20230327T190000Z
CATEGORIES:Verschiedenes
SUMMARY:Zusammenkunft Historischer Arbeitskreis
DESCRIPTION:
LOCATION:im Sitzungssaal des Rathauses
 Alle heimatkundlich Interessierten sind herzlich willkommen
UID:b96af0521389c426ab3905e740e22dac-64ec4bda48f414a45055458cb27ac1c7
PRIORITY:3
END:VEVENT
END:VCALENDAR
