BEGIN:VCALENDAR
VERSION:1.0
PRODID:Open2CKalenderExportV11
BEGIN:VEVENT
DTSTAMP:20221102T082455Z
DTSTART:20230121T190000Z
DTEND:20230121T190000Z
CATEGORIES:Vereine
SUMMARY:Jahreshauptversammlung der FFW Steinberg
DESCRIPTION:
LOCATION:Gasthaus Baumgartner
UID:3cde984a676872ab71ca29d88393ae90-e617a1ce1752aea1e79aed53cdd78856
PRIORITY:3
END:VEVENT
END:VCALENDAR
