BEGIN:VCALENDAR
VERSION:1.0
PRODID:Open2CKalenderExportV11
BEGIN:VEVENT
DTSTAMP:20230918T091202Z
DTSTART:20240105T190000Z
DTEND:20240105T190000Z
CATEGORIES:Vereine
SUMMARY:Winterparty des SV Steinberg
DESCRIPTION:
LOCATION:Sportgelände/Vereinsheim des SV Steinberg
UID:1f7da3f93a3472cc857ee34e353c6f19-c87b37fb3b0df8d09eead59d9fa704c5
PRIORITY:3
END:VEVENT
BEGIN:VEVENT
DTSTAMP:20231115T071825Z
DTSTART:20240106T190000Z
DTEND:20240106T190000Z
CATEGORIES:Vereine
SUMMARY:Christbaumversteigerung der Vilstaler Schützen
DESCRIPTION: | Organisator   Vilstaler Schützen
LOCATION:Schützenheim der Vilstaler Schützen
UID:b741c205f7aae2867176083ae8e61abd-47d1274ddd922280c03e2f71863f4cab
PRIORITY:3
END:VEVENT
BEGIN:VEVENT
DTSTAMP:20231115T071938Z
DTSTART:20240113T190000Z
DTEND:20240113T190000Z
CATEGORIES:Vereine
SUMMARY:Jahreshauptversammlung der FFW Steinberg
DESCRIPTION:
LOCATION:Gasthaus Baumgartner
UID:aba2605ef8f0344f9422befcd5034737-e617a1ce1752aea1e79aed53cdd78856
PRIORITY:3
END:VEVENT
END:VCALENDAR
