BEGIN:VCALENDAR
VERSION:1.0
PRODID:Open2CKalenderExportV11
BEGIN:VEVENT
DTSTAMP:20231129T175407Z
DTSTART:20240409T190000Z
DTEND:20240409T190000Z
SUMMARY:Gemeinderatssitzung 2024 / 04
DESCRIPTION:Nähere Informationen finden Sie unter https://ris.komuna.net/marklkofen/Meeting.mvc/Calendar
LOCATION:Sitzungssaal, Rathaus Marklkofen
UID:bdca57619b6e417490f5347ceee4d21b-8803938c2b65b2a7bd9d5f4184aa176c
PRIORITY:3
END:VEVENT
END:VCALENDAR
