BEGIN:VCALENDAR
VERSION:1.0
PRODID:Open2CKalenderExportV11
BEGIN:VEVENT
DTSTAMP:20231129T175427Z
DTSTART:20240507T190000Z
DTEND:20240507T190000Z
SUMMARY:Gemeinderatssitzung 2024 / 05
DESCRIPTION:Nähere Informationen finden Sie unter https://ris.komuna.net/marklkofen/Meeting.mvc/Calendar
LOCATION:Sitzungssaal, Rathaus Marklkofen
UID:94bf7b8a9d8bdb4df4b9538336cf2205-442d1fc7a1f60cda174b6fe4ee6a7bf4
PRIORITY:3
END:VEVENT
END:VCALENDAR
