BEGIN:VCALENDAR
VERSION:1.0
PRODID:Open2CKalenderExportV11
BEGIN:VEVENT
DTSTAMP:20231129T175459Z
DTSTART:20240604T190000Z
DTEND:20240604T190000Z
SUMMARY:Gemeinderatssitzung 2024 / 06
DESCRIPTION:Nähere Informationen finden Sie unter https://ris.komuna.net/marklkofen/Meeting.mvc/Calendar
LOCATION:Sitzungssaal, Rathaus Marklkofen
UID:379ddef1edaf6084a5c8b7b7b6887e1e-9401dcfe2f030f7f7776cf997f877056
PRIORITY:3
END:VEVENT
END:VCALENDAR
