BEGIN:VCALENDAR
VERSION:1.0
PRODID:Open2CKalenderExportV11
BEGIN:VEVENT
DTSTAMP:20231129T175545Z
DTSTART:20240702T190000Z
DTEND:20240702T190000Z
SUMMARY:Gemeinderatssitzung 2024 / 07
DESCRIPTION:Nähere Informationen finden Sie unter https://ris.komuna.net/marklkofen/Meeting.mvc/Calendar
LOCATION:Sitzungssaal, Rathaus Marklkofen
UID:7e7abdab8af8848f3f7208ce778d5745-61a86bdf2b34540b753b7cc6e3533a1d
PRIORITY:3
END:VEVENT
BEGIN:VEVENT
DTSTAMP:20231129T175625Z
DTSTART:20240723T190000Z
DTEND:20240723T190000Z
SUMMARY:Gemeinderatssitzung 2024 / 08
DESCRIPTION:Nähere Informationen finden Sie unter https://ris.komuna.net/marklkofen/Meeting.mvc/Calendar
LOCATION:Sitzungssaal, Rathaus Marklkofen
UID:5416054002427dfae4a06379076959f2-22d93c1ecbcf4aae0d5f3bacce447fa1
PRIORITY:3
END:VEVENT
END:VCALENDAR
