BEGIN:VCALENDAR
VERSION:1.0
PRODID:Open2CKalenderExportV11
BEGIN:VEVENT
DTSTAMP:20231129T175716Z
DTSTART:20241008T190000Z
DTEND:20241008T190000Z
SUMMARY:Gemeinderatssitzung 2024 / 10
DESCRIPTION:Nähere Informationen finden Sie unter https://ris.komuna.net/marklkofen/Meeting.mvc/Calendar
LOCATION:Sitzungssaal, Rathaus Marklkofen
UID:1748058fd8dd8b7151f884c88c944439-8996dcfd1b9ca9a645222edd7bd84697
PRIORITY:3
END:VEVENT
END:VCALENDAR
