BEGIN:VCALENDAR
VERSION:1.0
PRODID:Open2CKalenderExportV11
BEGIN:VEVENT
DTSTAMP:20240108T074116Z
DTSTART:20240203T140000Z
DTEND:20240203T140000Z
CATEGORIES:Fasching
SUMMARY:Kinderfasching in Steinberg
DESCRIPTION: | Organisator   ESC Steinberg, Theaterfreunde Steinberg, SV Steinberg
LOCATION:Stockschützenhalle des ESC Steinberg
UID:efdde9667195d4b25cb4803b64b58d43-f906427bb1a30f248801b45dc5407034
PRIORITY:3
END:VEVENT
BEGIN:VEVENT
DTSTAMP:20240122T101440Z
DTSTART:20240208T140000Z
DTEND:20240208T140000Z
CATEGORIES:Kirche
SUMMARY:Kaffeekränzchen des KDFB mit buntem Unterhaltungsprogramm zum "Unsinnigen Donnerstag"
DESCRIPTION:Der Zweigverein Marklkofen im KDFB lädt alle Frauen am 8. Fe\nuar ab 14 Uhr ein zum traditionellen "Faschings-Kaffeekranzl" am Unsinnigen Donnerstag. Die Besucherinnen - auch Nichtmitglieder sind willkommen - erwartet ein umfangreiches Programm: Geplant sind musikalische Darbietungen und lustige Theaterstücke. Auch die Showtanzgruppe "Rocking Ghosts" aus Dingolfing konnte für einen Auftritt gewonnen werden. Für Speis und Trank ist gesorgt, der Eintritt ist frei. | Organisator   Zweigverein Marklkofen im Katholischen Deutschen Frauenbund (KDFB)
LOCATION:Pfarrheim Marklkofen
UID:c3f2d8c55bce61133d74fdfe01d7f680-e10bc85aa2875456358c4563d6f430d6
PRIORITY:3
END:VEVENT
BEGIN:VEVENT
DTSTAMP:20240109T074419Z
DTSTART:20240217T080000Z
DTEND:20240217T093000Z
CATEGORIES:Verschiedenes
SUMMARY:Problemmüllsammlung
DESCRIPTION:Kostenlos abgegeben werden können:  |   |  | PCB-haltige Kleinkondensatoren &lt; 1 kg | Quecksilberhaltige Abfälle (Schalter, Thermometer) | Spraydosen mit Inhalt | Feste fett- und ölverschmierte Betríebsmittel, tropfend (Ölfilter, Kraftstofffilter, Ölschlämme, mineralölhaltige Fette) | Altlacke, Altfarben (flüssig, nicht ausgehärtet); keine Wandfarben | Lösemittel, Lösemittelgemische, Verdünner (Reinigungsbenzin, Pinselreiniger, Kaltreiniger, Fleckentferner, Frostschutzmittel, Bremsflüssigkeit) | Leim- und Klebemittel, nicht ausgehärtet | Haushaltsreiniger mit Gefahrstoffsymbol | Entwicklerbäder, Fixierbäder, Laborchemikalienreste, Gifte | Pflanzenschutz-, Schädlingsbekämpfungs- und Holzschutzmittel | Säuren, Laugen, Abbeizmittel, Salze, Ammoniak (Salmiak) | Altöl (Motoren- und Getriebeöl); Besser Rückgabe im Fachhandel: Rücknahmeverpflichtung | Feuerlöscher (max. 2 Stück) |  | Achtung! Nicht angenommen werden: |   |  | Altreifen (zurück zum Reifenhändler) | Autobatterien (Verkaufsstelle, Kfz-Werkstätten oder Schrotthandel) | Dispersionsfarben (ausgetrocknet zum Hausmüll) | nicht tropfendes Leergebinde wie leere Kanister, Eimer usw. (Hausmüll) | Munition, Sprengkörper, Feuerwerkskörper, andere pyrotechnische Artikel (zur Polizei) | völlig ausgehärtete Farben und Lacke (Hausmüll) | Druckgasflaschen | asbesthaltige Abfälle (Abfallberatung Tel. 08721 9612-0) anrufen |  | Nähere Informationen gibt es auf der Homepage des AWV Isar-Inn www.awv-isar-inn.de
LOCATION:Wertstoffhof Marklkofen
UID:30cc0afa3360ccebfc64d53af75b2f45-75046cde26b0f5adb26efbf76077af33
PRIORITY:3
END:VEVENT
BEGIN:VEVENT
DTSTAMP:20240214T071524Z
DTSTART:20240217T193000Z
DTEND:20240217T193000Z
CATEGORIES:Klassik-Konzerte
SUMMARY:Klassik im Schloss: DUO MILLEFLEURS
DESCRIPTION:Am Samstag, 17. Fe\nuar um 19.30 Uhr startet die beliebte Konzertreihe „Klassik im Schloss“ ins Jahr 2024. Dann wird der Festsaal wieder hell erleuchtet und alles vom Verein der Freunde und Förderer Schloss Poxau aufs Feinste vorbereitet sein, um die Zuhörer willkommen zu heißen. Und diese können sich auf ein mitreißendes Konzert zweier Damen an den Instrumenten Saxophon und Klavier freuen, die diesen Abend unter ihrem Namen „DUO MILLEFLEURS“ musikalisch gestalten werden. Eine Pianistin aus Georgien und eine klassische Saxophonistin aus Bayern, vereint in der Liebe zur Musik. Die beiden Profimusikerinnen Nestan Heberger und Sarah Lilian Kober lernten sich während des Studiums an der Hochschule für Musik und Theater in München kennen und gründeten 2014 das DUO MILLEFLEURS. Mitte des 19.Jahrhunderts vom Belgier Adolphe Sax erfunden, ist das Saxophon in den verschiedensten Stilrichtungen zu Hause. Sarah Lilian Kober (Alt- und Sopransaxophon) und Nestan Heberger (Klavier) widmen sich in ihrem Programm sowohl Originalliteratur für diese außergewöhnliche Besetzung als auch eigenen Bearbeitungen klassischer Kammermusikwerke. Die Kombination aus Sopran- oder Altsaxophon mit Klavier erzeugt immer neue Klangfarben, mal strahlt alles in satten, heiteren Tönen, mal ist es dunkel und melancholisch. Das Duo Millefleurs zeichnet sich besonders durch sein symbiotisches Zusammenspiel, sinnliche und zugleich temperamentvolle Darbietungen voller Virtuosität und spürbare Spielfreude aus. Ein ganz besonderer Konzertabend erwartet Sie! | Karten zu 20 € gibt es an der Abendkasse, in der Pause, wie immer Köstlichkeiten in flüssiger und fester Form. Auf geht´s ins musikalische Jahr 2024 auf Schloss Poxau! |   | Da es immer wieder zu Behinderungen auf der Klosterstraße durch parkende Autos kommt, wollen wir Euch auf den Kalvarienberg-Parkplatz hinweisen. Den Parkplatz findet Ihr ca. 50 m vor der Einfahrt zum Schloss Poxau auf der rechten Seite. | Organisator   Freunde und Förderer Schloss Poxau
LOCATION:Schloss Poxau
UID:368898c283c7cd176dba7e4fb6823074-bdc0e05b80cd4c7ce2d8e6115a6662d6
PRIORITY:3
END:VEVENT
BEGIN:VEVENT
DTSTAMP:20231218T084033Z
DTSTART:20240224T190000Z
DTEND:20240224T190000Z
CATEGORIES:Klassik-Konzerte
SUMMARY:Benefizkonzert des Bayerischen Polizeiorchesters
DESCRIPTION:Einlass: ab 18:00 | Ticketverkauf: www.reservix.de | Organisator   Polizeiorchester Bayern
LOCATION:Stadthalle Dingolfing
UID:5b9c9164f8e4dff54bc8a3742882e8fb-27a8c4cc284c4777c4d67e050ac0cfb2
PRIORITY:3
END:VEVENT
END:VCALENDAR
