BEGIN:VCALENDAR
VERSION:1.0
PRODID:Open2CKalenderExportV11
BEGIN:VEVENT
DTSTAMP:20240416T091632Z
DTSTART:20250104T190000Z
DTEND:20250104T190000Z
CATEGORIES:Vereine
SUMMARY:Christbaumversteigerung der Vilstaler Schützen
DESCRIPTION:
LOCATION:Schützenheim Marklkofen
UID:291cf42ae14782d5102673128f610929-79fd2451e0e0fe381d915b651d64cfc6
PRIORITY:3
END:VEVENT
END:VCALENDAR
