BEGIN:VCALENDAR
VERSION:1.0
PRODID:Open2CKalenderExportV11
BEGIN:VEVENT
DTSTAMP:20241002T094917Z
DTSTART:20250511T093000Z
DTEND:20250511T093000Z
CATEGORIES:Kirche
SUMMARY:Erstkommunion in Marklkofen
DESCRIPTION:
LOCATION:
UID:2de9f7e251fedc87830d97626f27548c-45aff28bae5b95b16ca8c0f87b0c2750
PRIORITY:3
END:VEVENT
END:VCALENDAR
