BEGIN:VCALENDAR
VERSION:1.0
PRODID:Open2CKalenderExportV11
BEGIN:VEVENT
DTSTAMP:20241021T061545Z
DTSTART:20251111T190000Z
DTEND:20251111T190000Z
SUMMARY:Gemeinderatssitzung 2025 / 11
DESCRIPTION:
LOCATION:Sitzungssaal, Rathaus Marklkofen
UID:169e2c059a5ad33738b99c3ce5941db8-45ba1e66013d800abf493a681308d20b
PRIORITY:3
END:VEVENT
END:VCALENDAR
