BEGIN:VCALENDAR
VERSION:1.0
PRODID:Open2CKalenderExportV11
BEGIN:VEVENT
DTSTAMP:20250203T064959Z
DTSTART:20250205T163000Z
DTEND:20250205T163000Z
CATEGORIES:Verschiedenes
SUMMARY:Infoveranstaltung für Sparkassenkunden im Gemeindegebiet Marklkofen
DESCRIPTION:Vorstandsvorsitzender der Sparkasse Niederbayern-Mitte, Walter Strohmeier, wird zu den Themen Beratung, Serviceleistung, Bargeldservice und Filialnetz informieren.
LOCATION:Gasthaus Baumgartner, Warth
UID:d6aa6a3e5db5f1985cd3c0039b4e3918-85a68e65efa2e5375a2900ec00c46be4
PRIORITY:3
END:VEVENT
BEGIN:VEVENT
DTSTAMP:20250128T071024Z
DTSTART:20250222T080000Z
DTEND:20250222T093000Z
CATEGORIES:Verschiedenes
SUMMARY:Problemmüllsammlung
DESCRIPTION:Kostenlos abgegeben werden können:  |   |  | PCB-haltige Kleinkondensatoren &lt; 1 kg | Quecksilberhaltige Abfälle (Schalter, Thermometer) | Spraydosen mit Inhalt | Feste fett- und ölverschmierte Betríebsmittel, tropfend (Ölfilter, Kraftstofffilter, Ölschlämme, mineralölhaltige Fette) | Altlacke, Altfarben (flüssig, nicht ausgehärtet); keine Wandfarben | Lösemittel, Lösemittelgemische, Verdünner (Reinigungsbenzin, Pinselreiniger, Kaltreiniger, Fleckentferner, Frostschutzmittel, Bremsflüssigkeit) | Leim- und Klebemittel, nicht ausgehärtet | Haushaltsreiniger mit Gefahrstoffsymbol | Entwicklerbäder, Fixierbäder, Laborchemikalienreste, Gifte | Pflanzenschutz-, Schädlingsbekämpfungs- und Holzschutzmittel | Säuren, Laugen, Abbeizmittel, Salze, Ammoniak (Salmiak) | Altöl (Motoren- und Getriebeöl); Besser Rückgabe im Fachhandel: Rücknahmeverpflichtung | Feuerlöscher (max. 2 Stück) |  | Achtung! Nicht angenommen werden: |   |  | Altreifen (zurück zum Reifenhändler) | Autobatterien (Verkaufsstelle, Kfz-Werkstätten oder Schrotthandel) | Dispersionsfarben (ausgetrocknet zum Hausmüll) | nicht tropfendes Leergebinde wie leere Kanister, Eimer usw. (Hausmüll) | Munition, Sprengkörper, Feuerwerkskörper, andere pyrotechnische Artikel (zur Polizei) | völlig ausgehärtete Farben und Lacke (Hausmüll) | Druckgasflaschen | asbesthaltige Abfälle (Abfallberatung Tel. 08721 9612-0) anrufen |  | Nähere Informationen gibt es auf der Homepage des AWV Isar-Inn www.awv-isar-inn.de
LOCATION:Wertstoffhof Marklkofen
UID:b147d7ef0e266182fad95b98c68e2038-75046cde26b0f5adb26efbf76077af33
PRIORITY:3
END:VEVENT
BEGIN:VEVENT
DTSTAMP:20250108T080132Z
DTSTART:20250222T140000Z
DTEND:20250222T140000Z
CATEGORIES:Fasching
SUMMARY:Kinderfasching in Steinberg
DESCRIPTION: | Organisator   ESC Steinberg, Theaterfreunde Steinberg, SV Steinberg
LOCATION:Stockschützenhalle des ESC Steinberg
UID:b12297ae7dbb49716f8f99ecd16031d8-f906427bb1a30f248801b45dc5407034
PRIORITY:3
END:VEVENT
BEGIN:VEVENT
DTSTAMP:20250211T072025Z
DTSTART:20250222T193000Z
DTEND:20250222T193000Z
CATEGORIES:Klassik-Konzerte
SUMMARY:Klassik im Schloss
DESCRIPTION:Der Verein Freunde und Förderer Schloss Poxau e. V. präsentiert: | Carmina Burana von Carl Orﬀ … aber völlig anders!TRIO MI.S.S.Michaela Bauer - Akkordeon Stephan von Clarmann - Vi\naphon Stephan Glaubitz, Kontrabass |   | Auch im Jahr 2025 erklingt Schloss Poxau in regelmäßigen Abständen mit wunderbarer Musik. Auch im 14. Jahr seit Beginn der Konzertreihe reiht sich ein musikalischer Höhepunkt an den andern. Dabei sollen viele Stilrichtungen die Zuhörer erfreuen und manchmal auch überraschen. Das sollte in der dieses Jahr sehr ausgiebigen Faschingszeit gelingen mit einem außergewöhnlichen Gastspiel der Formation „Trio Mi.S.S.“ aus dem Raum Erding. Michaela Bauer am Akkordeon, die schon mit dem Duo „BÖF“ im Schloss gastierte, ist auch Mitglied in dieser neuen Gruppe und lässt ihrem Temperament freien Lauf, ﬂankiert von Stephan von Clarmann, Vi\naphon und Stephan Glaubitz, Kontrabass. Unter dem Titel „Carmina Burana von Carl Orﬀ … aber völlig anders !“ machen sie neugierig darauf, wie unterschiedlich man (klassische) Musik präsentieren kann. Es verspricht, ein launiger, unterhaltsamer Musikabend zu werden.  | Damit dieser wieder gemütlich, stimmungsvoll und kulinarisch ansprechend in fester und ﬂüssiger Form wird, steht mit altbewährtem Engagement der Vorstand des Vereins der Freunde und Förderer Schloss Poxau bereit. Was will der Mensch mehr, um sein Gemüt in dieser wirren Zeit wieder mit Freude, Humor und Witz positiv zu stimmen! Karten an der Abendkasse. |   | Eintritt: 20€ AKSchloss Poxau, FestsaalKlosterstraße 25, Poxau, 84163 Marklkofen, Deutschland | Für Unfälle aller Art wird nicht gehaftet! | Organisator   Freunde und Förderer Schloss Poxau
LOCATION:Schloss Poxau
UID:083f22f7913ca01365fbeb80ddc08291-3d6aae59eac2d3d75068fd780969cd19
PRIORITY:3
END:VEVENT
BEGIN:VEVENT
DTSTAMP:20250203T072022Z
DTSTART:20250227T140000Z
DTEND:20250227T140000Z
CATEGORIES:Kirche
SUMMARY:Frauenfasching und Kaffeekränzchen im Pfarrheim Marklkofen
DESCRIPTION:Frauenfasching und Kaffeekränzchen mit Unterhaltungsprogramm (u.a. Auftritt einer Showtanzgruppe) und Bewirtung zum Unsinnigen Donnerstag. |  | Organisator   Pfarrgemeinderat Marklkofen
LOCATION:Pfarrheim Marklkofen
UID:1299eb0f6ea84a4a04d84777834f01f2-8533ec7fc52613206f317d8603a199b3
PRIORITY:3
END:VEVENT
END:VCALENDAR
