BEGIN:VCALENDAR
VERSION:1.0
PRODID:Open2CKalenderExportV11
BEGIN:VEVENT
DTSTAMP:20250814T113322Z
DTSTART:20250830T170000Z
DTEND:20250830T170000Z
CATEGORIES:Weinfest
SUMMARY:Weinfest am Dorfplatz in Marklkofen
DESCRIPTION:- mit Siegerehrung der Gewinner des Stadtradelns um 18.30 Uhr- mit Auftritt der Kindertanzgruppen des TSV Marklkofen |   |  | Organisator   Gemeinde Marklkofen und Vereine
LOCATION:Dorfplatz Marklkofen
UID:c00741bc030bfb67a949dad5b1c56c74-16a59ea5a090403d25b651d06b86e102
PRIORITY:3
END:VEVENT
END:VCALENDAR
