BEGIN:VCALENDAR
VERSION:1.0
PRODID:Open2CKalenderExportV11
BEGIN:VEVENT
DTSTAMP:20250917T073437Z
DTSTART:20260321T183000Z
DTEND:20260321T183000Z
CATEGORIES:Vereine
SUMMARY:2. Starkbierfest der Vilstaler Schützen
DESCRIPTION:
LOCATION:Schützenheim Marklkofen
UID:80832e8c99a175e0ac0f2f1ef75020e2-111109a1d688fc63966735c4b8a0ca7b
PRIORITY:3
END:VEVENT
END:VCALENDAR
