BEGIN:VCALENDAR
VERSION:1.0
PRODID:Open2CKalenderExportV11
BEGIN:VEVENT
DTSTAMP:20260209T092052Z
DTSTART:20260314T190000Z
DTEND:20260314T190000Z
CATEGORIES:Ausflüge
SUMMARY:Jahreshauptversammlung der Garten- und Naturfreunde Marklkofen e.V. mit Referat von Ölmüller Ralf Schäfer aus Thannenmais
DESCRIPTION:
LOCATION:Haus der Pfarrgemeinde Marklkofen
UID:0fc53f6056ada79bb23143f8387d7c11-ee8b3de3e1d374b7fb6c9b30744a4c45
PRIORITY:3
END:VEVENT
END:VCALENDAR
