BEGIN:VCALENDAR
VERSION:1.0
PRODID:Open2CKalenderExportV11
BEGIN:VEVENT
DTSTAMP:20251125T074904Z
DTSTART:20260210T190000Z
DTEND:20260210T190000Z
SUMMARY:Gemeinderatssitzung 2026 / 02
DESCRIPTION:
LOCATION:Sitzungssaal, Rathaus Marklkofen
UID:942cdeedf407f51b5f5092b20334f1bc-197ca5eb6f7a3ca88f31853fd48b30b9
PRIORITY:3
END:VEVENT
END:VCALENDAR
