BEGIN:VCALENDAR
VERSION:1.0
PRODID:Open2CKalenderExportV11
BEGIN:VEVENT
DTSTAMP:20260107T071700Z
DTSTART:20260627T180000Z
DTEND:20260627T180000Z
CATEGORIES:Vereine
SUMMARY:Gartenfest der Hoizbohscheiber Aiglkofen (mit Kindernachmittag ab 15 Uhr)
DESCRIPTION:Kindernachmittag ab 15.00 UhrGartenfest ab 18.00 Uhr | Organisator   Hoizbohscheiber Aiglkofen e.V.
LOCATION:Dorfgemeinschaftshaus Aiglkofen
UID:f47a533ee1bae26317b593b4035c2acc-5f2895caecfcc13312530bb0d552e03e
PRIORITY:3
END:VEVENT
END:VCALENDAR
