BEGIN:VCALENDAR
VERSION:1.0
PRODID:Open2CKalenderExportV11
BEGIN:VEVENT
DTSTAMP:20260209T083306Z
DTSTART:20260321T180000Z
DTEND:20260321T180000Z
CATEGORIES:Vereine
SUMMARY:Jahreshauptversammlung des ESC Marklkofen
DESCRIPTION:
LOCATION:Vereinsheim
UID:2d2821306b12f644eb3c5b19cf63134a-5b12b12529937afe4cb239d1024ef41a
PRIORITY:3
END:VEVENT
END:VCALENDAR
