BEGIN:VCALENDAR
VERSION:1.0
PRODID:Open2CKalenderExportV11
BEGIN:VEVENT
DTSTAMP:20260302T082152Z
DTSTART:20260814T190000Z
DTEND:20260814T190000Z
CATEGORIES:Kirche
SUMMARY:Sommerfest der Pfarrei Steinberg
DESCRIPTION:im Anschluss an den Gottesdienst mit Kräuterweihe findet um 19.00 Uhr ein Sommerfest der Pfarrei Steinberg statt.
LOCATION:Pfarrhof Steinberg
UID:53dac3c144ba8f305ca86e6857be1d80-c4555b02902f4bbbfa1a512b82545ec7
PRIORITY:3
END:VEVENT
BEGIN:VEVENT
DTSTAMP:20260107T070859Z
DTSTART:20260827T000000Z
DTEND:20260829T000000Z
CATEGORIES:Vereine
SUMMARY:Gemeindemeisterschaft Kegeln der Hoizbohscheiber Aiglkofen
DESCRIPTION: | Organisator   Hoizbohscheiber Aiglkofen e.V.
LOCATION:Dorfgemeinschaftshaus Aiglkofen
UID:8fbd16585c71f55276d825860e26d4d5-0458263d4ee66a189b7dc90ee62c2e17
PRIORITY:3
END:VEVENT
BEGIN:VEVENT
DTSTAMP:20260424T162453Z
DTSTART:20260829T170000Z
DTEND:20260829T170000Z
CATEGORIES:Weinfest
SUMMARY:Weinfest am Dorfplatz in Marklkofen
DESCRIPTION: | Organisator   Gemeinde Marklkofen und Vereine
LOCATION:Dorfplatz Marklkofen
UID:d001ae76362f9239580f37dbb72c3dc3-153496af8c42f2682a97280ff84000aa
PRIORITY:3
END:VEVENT
END:VCALENDAR
