BEGIN:VCALENDAR
VERSION:1.0
PRODID:Open2CKalenderExportV11
BEGIN:VEVENT
DTSTAMP:20260420T073029Z
DTSTART:20260630T140000Z
DTEND:20260630T140000Z
CATEGORIES:Verschiedenes
SUMMARY:Vortrag: Stürze vermeiden, Risiken erkennen (Kaffeekranzl des KDFB)
DESCRIPTION:Der Katholische Frauenbund Marklkofen lädt die Bevölkerung am Dienstag, 30. Juni, 14 Uhr, ein zu einem Vortrag zum Thema "Sturzprävention - Sicherheit im Alltag". Der Vortrag vermittelt wertvolles Wissen, wie man Stürzen vorbeugt und Risiken erkennt. Die Referentin Margarete Hirsch ist Krankenschwester und geschulte Expertin für Mobilitätsförderung und Sturzprophylaxe. Sie will unter anderem vermitteln, wie durch gezielte Förderung der Beweglichkeit Sicherheit und Lebensqualität gesteitert werden können. Der Vortrag findet im Rahmen des monatlichen Kaffeekränzchens des Frauenbunds statt, auch Nichtmitglieder und Männer sind wie immer willkommen. |   | 
LOCATION:Pfarrheim Marklkofen
UID:75661a5c7371c08b1f1a85ed5d0fa0bf-5278012549a711589cd565a3a2c8938b
PRIORITY:3
END:VEVENT
END:VCALENDAR
