BEGIN:VCALENDAR
VERSION:2.0
PRODID:< http://www.open2c.de/ >
METHOD:PUBLISH
X-PUBLISHED-TTL:PT12H
BEGIN:VEVENT
CREATED:20221024T070010Z
LAST-MODIFIED:20221024T070126Z
DTSTAMP:20260421T082606Z
DTSTART;VALUE=DATE:20230311
CATEGORIES:Vereine
SUMMARY:Starkbierfest des EC Poxau
LOCATION:ECP Vereinsheim
UID:8485f808f34d7bad3b61a16a63b6d171@3586603da77489b85672fdbe190693c3
END:VEVENT
BEGIN:VEVENT
CREATED:20230321T071954Z
LAST-MODIFIED:20230321T072427Z
ORGANIZER;CN="Referentin: Dr. rer.nat. Claudia Karl\, Dipl. Biologin":MAILTO:umweltbildung@landkreis-dingolfing-landau.de\nTel. 08731-87-248
DTSTAMP:20260421T082606Z
DTSTART:20230325T140000Z
DTEND:20230325T160000Z
CATEGORIES:Verschiedenes
SUMMARY:Naturerlebniswanderung: Frühling erleben im Naturschutzgebiet „Vilstal bei Marklkofen“
DESCRIPTION:Seit knapp 40 Jahren besteht das Naturschutzgebiet „Vilstal b
	ei Marklkofen“ mit einer Ausdehnung von rund 173 Hektar. Der wertvolle L
	ebensraum beinhaltet unter anderem Fließ- und Stillgewässer\, Auwaldreste
	\, große Schilfröhricht- und weite Wiesenflächen. Zahlreiche Vogelarten 
	leben und brüten hier oder rasten auf dem Durchzug. Bei einem kleinen Spa
	ziergang erläutert die Referentin die Besonderheiten des Gebiets\, auch im
	 Bezug auf die Vogelwelt. Die Besucher sind eingeladen\, das Naturschutzgeb
	iet kennenzulernen. Besonders wichtig dabei: Um langfristig die Vielfalt d
	er seltenen Arten zu schützen\, müssen auch Naturfreunde auf Abstand zum 
	Beispiel zu den störungsempfindlichen Vögeln gehen. Die Wanderung soll a
	uch eine Entdeckungsreise zu den ersten Blüten und Knospen des Jahres sei
	n und sensibel machen für Geräusche und Farbeindrücke im Lebensraum Flu
	ssaue. Mitzubringen sind: wenn vorhanden ein Fernglas\, festes Schuhwerk un
	d wetterangepasste Kleidung Wir bitten um Anmeldung\, da die Teilnehmerzahl
	 begrenzt ist: umweltbildung@landkreis-dingolfing-landau.de  -  Tel. 087
	31-87-248 Organisator Referentin: Dr. rer.nat. Claudia Karl\, Dipl. Biologi
	n Kontakt umweltbildung@landkreis-dingolfing-landau.de Tel. 08731-87-248
LOCATION:Mäandertalzentrum\, Am Sportplatz\, 84163 Marklkofen
UID:f4b797c26203278822df5671bd04a0c8@3586603da77489b85672fdbe190693c3
END:VEVENT
BEGIN:VEVENT
CREATED:20230306T070155Z
LAST-MODIFIED:20230306T070240Z
DTSTAMP:20260421T082606Z
DTSTART;VALUE=DATE:20230326
CATEGORIES:Vereine
SUMMARY:Generalversammlung mit Neuwahlen der KSK Marklkofen
LOCATION:Alter Bahnhof\, Marklkofen
UID:c54a46e5a9ff7c53238a81b8afce7a41@3586603da77489b85672fdbe190693c3
END:VEVENT
BEGIN:VEVENT
CREATED:20230308T064430Z
LAST-MODIFIED:20230308T064757Z
DTSTAMP:20260421T082606Z
DTSTART;VALUE=DATE:20230327
CATEGORIES:Verschiedenes
SUMMARY:Zusammenkunft Historischer Arbeitskreis
LOCATION:im Sitzungssaal des Rathauses\nAlle heimatkundlich Interessierten sind herzlich willkommen
UID:22c9884c79f5064063e3d812a54dcd86@3586603da77489b85672fdbe190693c3
END:VEVENT
END:VCALENDAR