BEGIN:VCALENDAR
VERSION:2.0
PRODID:< http://www.open2c.de/ >
METHOD:PUBLISH
X-PUBLISHED-TTL:PT12H
BEGIN:VEVENT
CREATED:20221102T082251Z
LAST-MODIFIED:20221102T082455Z
DTSTAMP:20260419T175545Z
DTSTART;VALUE=DATE:20230121
CATEGORIES:Vereine
SUMMARY:Jahreshauptversammlung der FFW Steinberg
LOCATION:Gasthaus Baumgartner
UID:1dc188af148db5890fb95dddf7d2333c@3586603da77489b85672fdbe190693c3
END:VEVENT
END:VCALENDAR