BEGIN:VCALENDAR
VERSION:2.0
PRODID:< http://www.open2c.de/ >
METHOD:PUBLISH
X-PUBLISHED-TTL:PT12H
BEGIN:VEVENT
CREATED:20230918T091131Z
LAST-MODIFIED:20230918T091202Z
DTSTAMP:20260421T095306Z
DTSTART;VALUE=DATE:20240105
CATEGORIES:Vereine
SUMMARY:Winterparty des SV Steinberg
LOCATION:Sportgelände/Vereinsheim des SV Steinberg
UID:ad4ebccdc47f1ae0d3fe32cebbb97141@3586603da77489b85672fdbe190693c3
END:VEVENT
BEGIN:VEVENT
CREATED:20231115T071759Z
LAST-MODIFIED:20231115T071825Z
ORGANIZER;CN="Vilstaler Schützen"
DTSTAMP:20260421T095306Z
DTSTART;VALUE=DATE:20240106
CATEGORIES:Vereine
SUMMARY:Christbaumversteigerung der Vilstaler Schützen
DESCRIPTION:Organisator Vilstaler Schützen
LOCATION:Schützenheim der Vilstaler Schützen
UID:ce1e20c5f61e2572ab6188fad96e0029@3586603da77489b85672fdbe190693c3
END:VEVENT
BEGIN:VEVENT
CREATED:20231115T071851Z
LAST-MODIFIED:20231115T071938Z
DTSTAMP:20260421T095306Z
DTSTART;VALUE=DATE:20240113
CATEGORIES:Vereine
SUMMARY:Jahreshauptversammlung der FFW Steinberg
LOCATION:Gasthaus Baumgartner
UID:eb65130739cfed421f187386d68a4496@3586603da77489b85672fdbe190693c3
END:VEVENT
END:VCALENDAR