BEGIN:VCALENDAR
VERSION:2.0
PRODID:< http://www.open2c.de/ >
METHOD:PUBLISH
X-PUBLISHED-TTL:PT12H
BEGIN:VEVENT
CREATED:20231129T175347Z
LAST-MODIFIED:20231129T175407Z
DTSTAMP:20260419T153008Z
DTSTART;VALUE=DATE:20240409
SUMMARY:Gemeinderatssitzung 2024 / 04
DESCRIPTION:Nähere Informationen finden Sie unter https://ris.komuna.net/m
	arklkofen/Meeting.mvc/Calendar
LOCATION:Sitzungssaal\, Rathaus Marklkofen
UID:9e00175298e8ae94960b73e84788e3f1@3586603da77489b85672fdbe190693c3
END:VEVENT
END:VCALENDAR