BEGIN:VCALENDAR
VERSION:2.0
PRODID:< http://www.open2c.de/ >
METHOD:PUBLISH
X-PUBLISHED-TTL:PT12H
BEGIN:VEVENT
CREATED:20231129T175416Z
LAST-MODIFIED:20231129T175427Z
DTSTAMP:20260419T141319Z
DTSTART;VALUE=DATE:20240507
SUMMARY:Gemeinderatssitzung 2024 / 05
DESCRIPTION:Nähere Informationen finden Sie unter https://ris.komuna.net/m
	arklkofen/Meeting.mvc/Calendar
LOCATION:Sitzungssaal\, Rathaus Marklkofen
UID:879457de286fe58e9ae44afbccc4b53f@3586603da77489b85672fdbe190693c3
END:VEVENT
END:VCALENDAR