BEGIN:VCALENDAR
VERSION:2.0
PRODID:< http://www.open2c.de/ >
METHOD:PUBLISH
X-PUBLISHED-TTL:PT12H
BEGIN:VEVENT
CREATED:20231129T175436Z
LAST-MODIFIED:20231129T175459Z
DTSTAMP:20260419T123117Z
DTSTART;VALUE=DATE:20240604
SUMMARY:Gemeinderatssitzung 2024 / 06
DESCRIPTION:Nähere Informationen finden Sie unter https://ris.komuna.net/m
	arklkofen/Meeting.mvc/Calendar
LOCATION:Sitzungssaal\, Rathaus Marklkofen
UID:4e5392126cbf0bcf58580a056e658d12@3586603da77489b85672fdbe190693c3
END:VEVENT
END:VCALENDAR