BEGIN:VCALENDAR
VERSION:2.0
PRODID:< http://www.open2c.de/ >
METHOD:PUBLISH
X-PUBLISHED-TTL:PT12H
BEGIN:VEVENT
CREATED:20231129T175532Z
LAST-MODIFIED:20231129T175545Z
DTSTAMP:20260421T082621Z
DTSTART;VALUE=DATE:20240702
SUMMARY:Gemeinderatssitzung 2024 / 07
DESCRIPTION:Nähere Informationen finden Sie unter https://ris.komuna.net/m
	arklkofen/Meeting.mvc/Calendar
LOCATION:Sitzungssaal\, Rathaus Marklkofen
UID:0303518710b588218611111013a15506@3586603da77489b85672fdbe190693c3
END:VEVENT
BEGIN:VEVENT
CREATED:20231129T175610Z
LAST-MODIFIED:20231129T175625Z
DTSTAMP:20260421T082621Z
DTSTART;VALUE=DATE:20240723
SUMMARY:Gemeinderatssitzung 2024 / 08
DESCRIPTION:Nähere Informationen finden Sie unter https://ris.komuna.net/m
	arklkofen/Meeting.mvc/Calendar
LOCATION:Sitzungssaal\, Rathaus Marklkofen
UID:7067664f4091e4a83f7f615a9e9d8149@3586603da77489b85672fdbe190693c3
END:VEVENT
END:VCALENDAR