BEGIN:VCALENDAR
VERSION:2.0
PRODID:< http://www.open2c.de/ >
METHOD:PUBLISH
X-PUBLISHED-TTL:PT12H
BEGIN:VEVENT
CREATED:20231129T175703Z
LAST-MODIFIED:20231129T175716Z
DTSTAMP:20260423T110141Z
DTSTART;VALUE=DATE:20241008
SUMMARY:Gemeinderatssitzung 2024 / 10
DESCRIPTION:Nähere Informationen finden Sie unter https://ris.komuna.net/m
	arklkofen/Meeting.mvc/Calendar
LOCATION:Sitzungssaal\, Rathaus Marklkofen
UID:1a8b4c8cd89cfcfdb0ccc76dc16cf973@3586603da77489b85672fdbe190693c3
END:VEVENT
END:VCALENDAR