BEGIN:VCALENDAR
VERSION:2.0
PRODID:< http://www.open2c.de/ >
METHOD:PUBLISH
X-PUBLISHED-TTL:PT12H
BEGIN:VEVENT
CREATED:20240108T072523Z
LAST-MODIFIED:20240108T074116Z
ORGANIZER;CN="ESC Steinberg\, Theaterfreunde Steinberg\, SV Steinberg"
DTSTAMP:20260419T203204Z
DTSTART;VALUE=DATE:20240203
CATEGORIES:Fasching
SUMMARY:Kinderfasching in Steinberg
DESCRIPTION: Organisator ESC Steinberg\, Theaterfreunde Steinberg\, SV Steinb
	erg
LOCATION:Stockschützenhalle des ESC Steinberg
UID:d12b1e63da0fecf0a7e676f581dc401a@3586603da77489b85672fdbe190693c3
END:VEVENT
BEGIN:VEVENT
CREATED:20240122T101332Z
LAST-MODIFIED:20240122T101440Z
ORGANIZER;CN="Zweigverein Marklkofen im Katholischen Deutschen Frauenbund (KDFB)"
DTSTAMP:20260419T203204Z
DTSTART;VALUE=DATE:20240208
CATEGORIES:Kirche
SUMMARY:Kaffeekränzchen des KDFB mit buntem Unterhaltungsprogramm zum "Unsinnigen Donnerstag"
DESCRIPTION:Der Zweigverein Marklkofen im KDFB lädt alle Frauen am 8. Febr
	uar ab 14 Uhr ein zum traditionellen "Faschings-Kaffeekranzl" am Unsinnige
	n Donnerstag. Die Besucherinnen - auch Nichtmitglieder sind willkommen - e
	rwartet ein umfangreiches Programm: Geplant sind musikalische Darbietungen
	 und lustige Theaterstücke. Auch die Showtanzgruppe "Rocking Ghosts" aus 
	Dingolfing konnte für einen Auftritt gewonnen werden. Für Speis und Tran
	k ist gesorgt\, der Eintritt ist frei. Organisator Zweigverein Marklkofen i
	m Katholischen Deutschen Frauenbund (KDFB)
LOCATION:Pfarrheim Marklkofen
UID:632edda0e9580f294ab104c75bccc2f8@3586603da77489b85672fdbe190693c3
END:VEVENT
BEGIN:VEVENT
CREATED:20240109T073831Z
LAST-MODIFIED:20240109T074419Z
DTSTAMP:20260419T203204Z
DTSTART:20240217T080000Z
DTEND:20240217T093000Z
CATEGORIES:Verschiedenes
SUMMARY:Problemmüllsammlung
DESCRIPTION:Kostenlos abgegeben werden können:    PCB-haltige Kleinkonde
	nsatoren &lt\; 1 kg Quecksilberhaltige Abfälle (Schalter\, Thermometer) Spr
	aydosen mit Inhalt Feste fett- und ölverschmierte Betríebsmittel\, tropfe
	nd (Ölfilter\, Kraftstofffilter\, Ölschlämme\, mineralölhaltige Fette) Al
	tlacke\, Altfarben (flüssig\, nicht ausgehärtet)\; keine Wandfarben Lösemi
	ttel\, Lösemittelgemische\, Verdünner (Reinigungsbenzin\, Pinselreiniger\, K
	altreiniger\, Fleckentferner\, Frostschutzmittel\, Bremsflüssigkeit) Leim- u
	nd Klebemittel\, nicht ausgehärtet Haushaltsreiniger mit Gefahrstoffsymbol
	 Entwicklerbäder\, Fixierbäder\, Laborchemikalienreste\, Gifte Pflanzenschu
	tz-\, Schädlingsbekämpfungs- und Holzschutzmittel Säuren\, Laugen\, Abbeiz
	mittel\, Salze\, Ammoniak (Salmiak) Altöl (Motoren- und Getriebeöl)\; Besse
	r Rückgabe im Fachhandel: Rücknahmeverpflichtung Feuerlöscher (max. 2 S
	tück) Achtung! Nicht angenommen werden:   Altreifen (zurück zum Reifenh
	ändler) Autobatterien (Verkaufsstelle\, Kfz-Werkstätten oder Schrotthande
	l) Dispersionsfarben (ausgetrocknet zum Hausmüll) nicht tropfendes Leerge
	binde wie leere Kanister\, Eimer usw. (Hausmüll) Munition\, Sprengkörper\, 
	Feuerwerkskörper\, andere pyrotechnische Artikel (zur Polizei) völlig aus
	gehärtete Farben und Lacke (Hausmüll) Druckgasflaschen asbesthaltige Abf
	älle (Abfallberatung Tel. 08721 9612-0) anrufen Nähere Informationen gib
	t es auf der Homepage des AWV Isar-Inn www.awv-isar-inn.de
LOCATION:Wertstoffhof Marklkofen
UID:e0e4795629770e8d407b886b331aa54b@3586603da77489b85672fdbe190693c3
END:VEVENT
BEGIN:VEVENT
CREATED:20240124T110828Z
LAST-MODIFIED:20240214T071524Z
ORGANIZER;CN="Freunde und Förderer Schloss Poxau"
DTSTAMP:20260419T203204Z
DTSTART;VALUE=DATE:20240217
CATEGORIES:Klassik-Konzerte
SUMMARY:Klassik im Schloss: DUO MILLEFLEURS
DESCRIPTION:Am Samstag\, 17. Februar um 19.30 Uhr startet die beliebte Konze
	rtreihe „Klassik im Schloss“ ins Jahr 2024. Dann wird der Festsaal wie
	der hell erleuchtet und alles vom Verein der Freunde und Förderer Schloss
	 Poxau aufs Feinste vorbereitet sein\, um die Zuhörer willkommen zu heiße
	n. Und diese können sich auf ein mitreißendes Konzert zweier Damen an de
	n Instrumenten Saxophon und Klavier freuen\, die diesen Abend unter ihrem N
	amen „DUO MILLEFLEURS“ musikalisch gestalten werden. Eine Pianistin au
	s Georgien und eine klassische Saxophonistin aus Bayern\, vereint in der Li
	ebe zur Musik. Die beiden Profimusikerinnen Nestan Heberger und Sarah Lili
	an Kober lernten sich während des Studiums an der Hochschule für Musik u
	nd Theater in München kennen und gründeten 2014 das DUO MILLEFLEURS. Mit
	te des 19.Jahrhunderts vom Belgier Adolphe Sax erfunden\, ist das Saxophon 
	in den verschiedensten Stilrichtungen zu Hause. Sarah Lilian Kober (Alt- u
	nd Sopransaxophon) und Nestan Heberger (Klavier) widmen sich in ihrem Prog
	ramm sowohl Originalliteratur für diese außergewöhnliche Besetzung als 
	auch eigenen Bearbeitungen klassischer Kammermusikwerke. Die Kombination a
	us Sopran- oder Altsaxophon mit Klavier erzeugt immer neue Klangfarben\, ma
	l strahlt alles in satten\, heiteren Tönen\, mal ist es dunkel und melancho
	lisch. Das Duo Millefleurs zeichnet sich besonders durch sein symbiotische
	s Zusammenspiel\, sinnliche und zugleich temperamentvolle Darbietungen voll
	er Virtuosität und spürbare Spielfreude aus. Ein ganz besonderer Konzert
	abend erwartet Sie! Karten zu 20 € gibt es an der Abendkasse\, in der Pau
	se\, wie immer Köstlichkeiten in flüssiger und fester Form. Auf geht´s i
	ns musikalische Jahr 2024 auf Schloss Poxau!   Da es immer wieder zu Behi
	nderungen auf der Klosterstraße durch parkende Autos kommt\, wollen wir Eu
	ch auf den Kalvarienberg-Parkplatz hinweisen. Den Parkplatz findet Ihr ca.
	 50 m vor der Einfahrt zum Schloss Poxau auf der rechten Seite. Organisato
	r Freunde und Förderer Schloss Poxau
LOCATION:Schloss Poxau
UID:6df0e6b189a8fd4a2349e07eedbbcc45@3586603da77489b85672fdbe190693c3
END:VEVENT
BEGIN:VEVENT
CREATED:20231218T083619Z
LAST-MODIFIED:20231218T084033Z
ORGANIZER;CN="Polizeiorchester Bayern"
DTSTAMP:20260419T203204Z
DTSTART;VALUE=DATE:20240224
CATEGORIES:Klassik-Konzerte
SUMMARY:Benefizkonzert des Bayerischen Polizeiorchesters
DESCRIPTION:Einlass: ab 18:00 Ticketverkauf: www.reservix.de Organisator Po
	lizeiorchester Bayern
LOCATION:Stadthalle Dingolfing
UID:e2ab44ab8511b54d6c07ab11c3c98ecf@3586603da77489b85672fdbe190693c3
END:VEVENT
END:VCALENDAR