BEGIN:VCALENDAR
VERSION:2.0
PRODID:< http://www.open2c.de/ >
METHOD:PUBLISH
X-PUBLISHED-TTL:PT12H
BEGIN:VEVENT
CREATED:20240416T091608Z
LAST-MODIFIED:20240416T091632Z
DTSTAMP:20260424T213432Z
DTSTART;VALUE=DATE:20250104
CATEGORIES:Vereine
SUMMARY:Christbaumversteigerung der Vilstaler Schützen
LOCATION:Schützenheim Marklkofen
UID:cc31caaf54afb203882bc68ba8dc5c7d@3586603da77489b85672fdbe190693c3
END:VEVENT
END:VCALENDAR