BEGIN:VCALENDAR
VERSION:2.0
PRODID:< http://www.open2c.de/ >
METHOD:PUBLISH
X-PUBLISHED-TTL:PT12H
BEGIN:VEVENT
CREATED:20240729T073915Z
LAST-MODIFIED:20240729T074050Z
DTSTAMP:20260421T122240Z
DTSTART:20250530T000000Z
DTEND:20250602T000000Z
CATEGORIES:Verschiedenes
SUMMARY:Fischerfest Marklkofen 2025
LOCATION:Volksfestplatz Marklkofen
UID:df3fd6430ecb7ec2e5ce5e50d0cfe8bd@3586603da77489b85672fdbe190693c3
END:VEVENT
END:VCALENDAR