BEGIN:VCALENDAR
VERSION:2.0
PRODID:< http://www.open2c.de/ >
METHOD:PUBLISH
X-PUBLISHED-TTL:PT12H
BEGIN:VEVENT
CREATED:20250915T144909Z
LAST-MODIFIED:20251105T075916Z
DTSTAMP:20260421T082421Z
DTSTART:20260314T140000Z
DTEND:20260314T150000Z
CATEGORIES:Verschiedenes
SUMMARY:Walk & Talk mit der Bürgermeisterkandidatin Angela Baumann
LOCATION:Treffpunkt: Birnthal beim Kreuz am Feldrand
UID:29c11839e9a3d7e14210469808861b29@3586603da77489b85672fdbe190693c3
END:VEVENT
END:VCALENDAR