BEGIN:VCALENDAR
VERSION:2.0
PRODID:< http://www.open2c.de/ >
METHOD:PUBLISH
X-PUBLISHED-TTL:PT12H
BEGIN:VEVENT
CREATED:20250917T073348Z
LAST-MODIFIED:20250917T073437Z
DTSTAMP:20260421T081132Z
DTSTART;VALUE=DATE:20260321
CATEGORIES:Vereine
SUMMARY:2. Starkbierfest der Vilstaler Schützen
LOCATION:Schützenheim Marklkofen
UID:f15ffbe21e65a1b723b1f3c62b136d0f@3586603da77489b85672fdbe190693c3
END:VEVENT
END:VCALENDAR