BEGIN:VCALENDAR
VERSION:2.0
PRODID:< http://www.open2c.de/ >
METHOD:PUBLISH
X-PUBLISHED-TTL:PT12H
BEGIN:VEVENT
CREATED:20251029T082938Z
LAST-MODIFIED:20251029T104248Z
ORGANIZER;CN="FFW Marklkofen"
DTSTAMP:20260419T115729Z
DTSTART;VALUE=DATE:20261114
CATEGORIES:Vereine
SUMMARY:Jahreshauptversammlung der FFW Feuerwehr Marklkofen
DESCRIPTION:Organisator FFW Marklkofen
LOCATION:Feuerwehrgerätehaus Marklkofen
UID:a1bf948b5857fc12b983e2880f215ce5@3586603da77489b85672fdbe190693c3
END:VEVENT
END:VCALENDAR