BEGIN:VCALENDAR
VERSION:2.0
PRODID:< http://www.open2c.de/ >
METHOD:PUBLISH
X-PUBLISHED-TTL:PT12H
BEGIN:VEVENT
CREATED:20251125T074848Z
LAST-MODIFIED:20251125T074904Z
DTSTAMP:20260423T124003Z
DTSTART;VALUE=DATE:20260210
SUMMARY:Gemeinderatssitzung 2026 / 02
LOCATION:Sitzungssaal\, Rathaus Marklkofen
UID:c607d92551b894756920b7045fb986b2@3586603da77489b85672fdbe190693c3
END:VEVENT
END:VCALENDAR