BEGIN:VCALENDAR
VERSION:2.0
PRODID:< http://www.open2c.de/ >
METHOD:PUBLISH
X-PUBLISHED-TTL:PT12H
BEGIN:VEVENT
CREATED:20260107T070534Z
LAST-MODIFIED:20260107T071700Z
ORGANIZER;CN="Hoizbohscheiber Aiglkofen e.V."
DTSTAMP:20260421T171620Z
DTSTART;VALUE=DATE:20260627
CATEGORIES:Vereine
SUMMARY:Gartenfest der Hoizbohscheiber Aiglkofen (mit Kindernachmittag ab 15 Uhr)
DESCRIPTION:Kindernachmittag ab 15.00 UhrGartenfest ab 18.00 Uhr Organisato
	r Hoizbohscheiber Aiglkofen e.V.
LOCATION:Dorfgemeinschaftshaus Aiglkofen
UID:a20e9257869d392ceb0defd402d7e591@3586603da77489b85672fdbe190693c3
END:VEVENT
END:VCALENDAR