BEGIN:VCALENDAR
VERSION:2.0
PRODID:< http://www.open2c.de/ >
METHOD:PUBLISH
X-PUBLISHED-TTL:PT12H
BEGIN:VEVENT
CREATED:20260209T083227Z
LAST-MODIFIED:20260209T083306Z
DTSTAMP:20260421T082446Z
DTSTART;VALUE=DATE:20260321
CATEGORIES:Vereine
SUMMARY:Jahreshauptversammlung des ESC Marklkofen
LOCATION:Vereinsheim
UID:b3a75d251a3e284cff49eee40153d8c2@3586603da77489b85672fdbe190693c3
END:VEVENT
END:VCALENDAR