BEGIN:VCALENDAR
VERSION:2.0
PRODID:< http://www.open2c.de/ >
METHOD:PUBLISH
X-PUBLISHED-TTL:PT12H
BEGIN:VEVENT
CREATED:20260414T054315Z
LAST-MODIFIED:20260414T054801Z
DTSTAMP:20260421T081122Z
DTSTART;VALUE=DATE:20261003
CATEGORIES:Vereine
SUMMARY:Schützenausflug der Vilstaler Schützen Marklkofen
UID:0bd2ba40bb771e4f751993f9217cb14f@3586603da77489b85672fdbe190693c3
END:VEVENT
END:VCALENDAR