BEGIN:VCALENDAR
VERSION:2.0
PRODID:< http://www.open2c.de/ >
METHOD:PUBLISH
X-PUBLISHED-TTL:PT12H
BEGIN:VEVENT
CREATED:20260420T072731Z
LAST-MODIFIED:20260420T073029Z
DTSTAMP:20260421T135031Z
DTSTART;VALUE=DATE:20260630
CATEGORIES:Verschiedenes
SUMMARY:Vortrag: Stürze vermeiden\, Risiken erkennen (Kaffeekranzl des KDFB)
DESCRIPTION:Der Katholische Frauenbund Marklkofen lädt die Bevölkerung am
	 Dienstag\, 30. Juni\, 14 Uhr\, ein zu einem Vortrag zum Thema "Sturzprävent
	ion - Sicherheit im Alltag". Der Vortrag vermittelt wertvolles Wissen\, wie
	 man Stürzen vorbeugt und Risiken erkennt. Die Referentin Margarete Hirsc
	h ist Krankenschwester und geschulte Expertin für Mobilitätsförderung u
	nd Sturzprophylaxe. Sie will unter anderem vermitteln\, wie durch gezielte 
	Förderung der Beweglichkeit Sicherheit und Lebensqualität gesteitert wer
	den können. Der Vortrag findet im Rahmen des monatlichen Kaffeekränzchen
	s des Frauenbunds statt\, auch Nichtmitglieder und Männer sind wie immer w
	illkommen.   
LOCATION:Pfarrheim Marklkofen
UID:ce1fe74184b3c2daccc5cd8da1c23104@3586603da77489b85672fdbe190693c3
END:VEVENT
END:VCALENDAR