BEGIN:VCALENDAR
VERSION:2.0
PRODID:< http://www.open2c.de/ >
METHOD:PUBLISH
X-PUBLISHED-TTL:PT12H
BEGIN:VEVENT
CREATED:20260424T162344Z
LAST-MODIFIED:20260424T162453Z
ORGANIZER;CN="Gemeinde Marklkofen und Vereine"
DTSTAMP:20260425T143232Z
DTSTART;VALUE=DATE:20260829
CATEGORIES:Weinfest
SUMMARY:Weinfest am Dorfplatz in Marklkofen
DESCRIPTION:Organisator Gemeinde Marklkofen und Vereine
LOCATION:Dorfplatz Marklkofen
UID:7610180f0de74a181c2489ca9839e2c8@3586603da77489b85672fdbe190693c3
END:VEVENT
END:VCALENDAR